BEGIN:VCALENDAR
VERSION:2.0
PRODID:-//Wades Mill - ECPv6.15.20//NONSGML v1.0//EN
CALSCALE:GREGORIAN
METHOD:PUBLISH
X-ORIGINAL-URL:https://www.wadesmill.com
X-WR-CALDESC:Events for Wades Mill
REFRESH-INTERVAL;VALUE=DURATION:PT1H
X-Robots-Tag:noindex
X-PUBLISHED-TTL:PT1H
BEGIN:VTIMEZONE
TZID:America/New_York
BEGIN:DAYLIGHT
TZOFFSETFROM:-0500
TZOFFSETTO:-0400
TZNAME:EDT
DTSTART:20170312T070000
END:DAYLIGHT
BEGIN:STANDARD
TZOFFSETFROM:-0400
TZOFFSETTO:-0500
TZNAME:EST
DTSTART:20171105T060000
END:STANDARD
BEGIN:DAYLIGHT
TZOFFSETFROM:-0500
TZOFFSETTO:-0400
TZNAME:EDT
DTSTART:20180311T070000
END:DAYLIGHT
BEGIN:STANDARD
TZOFFSETFROM:-0400
TZOFFSETTO:-0500
TZNAME:EST
DTSTART:20181104T060000
END:STANDARD
BEGIN:DAYLIGHT
TZOFFSETFROM:-0500
TZOFFSETTO:-0400
TZNAME:EDT
DTSTART:20190310T070000
END:DAYLIGHT
BEGIN:STANDARD
TZOFFSETFROM:-0400
TZOFFSETTO:-0500
TZNAME:EST
DTSTART:20191103T060000
END:STANDARD
END:VTIMEZONE
BEGIN:VEVENT
DTSTART;TZID=America/New_York:20181020T100000
DTEND;TZID=America/New_York:20181020T160000
DTSTAMP:20260425T134828
CREATED:20180903T165045Z
LAST-MODIFIED:20181012T143827Z
UID:1441-1540029600-1540051200@www.wadesmill.com
SUMMARY:23rd Annual Apple Butter Festival
DESCRIPTION:Join us for the 23rd Annual Apple Butter Festival and celebrate fall at Wade’s Mill.\nThe Apple Butter Festival is the one time a year that we make apple butter the old-fashioned way\, slow simmered in a 130+ year old copper pot over an open fire. You can take a turn stirring with the long-handled wooden paddle. Don’t miss the once-a-year opportunity to buy a jar of the freshly made\, 100% natural apple butter! \nEnjoy demonstrations and handcrafted work by local artisans and crafts people including blacksmithing\, broom making\, alpaca wool products\, pottery\, stained glass\, lavender products\, rocks and gems\, jewelry\, wood turning and more. \nThroughout the day you’ll be able to explore Wade’s Mill’s three floors of historic milling equipment and museum displays to learn about the history and tradition of stone-ground milling and see how local grains are made into 100% natural flours\, grits and corn meals. \nWade’s Mill Apple Butter Festival is a great family day out and wonderful way to celebrate the fall in the Shenandoah Valley.  Wade’s Mill is the oldest\, continuously operating commercial grist mill in Virginia.  It is on the National Register of Historic Places and the Virginia Landmarks Register. \nApple Butter Festival highlights\n\nMusic by The New Corner Grocery and Bluegrass Band from 12:00 – 2:30 p.m.\nFresh Wade’s Mill bread baked in our outdoor oven\nDemonstrations by local artisans and crafts people\nNEW FOR 2018! Demonstrations from the Rockbridge County Sheriff’s Office K9 Unit\nRocks Money Pit award winning BBQ\nThe Raphine Volunteer Fire Company’s famous BBQ chicken\nAuthentic chuck wagon fruit cobblers cooked in a Dutch oven over an open fire\nWine from Rockbridge Vineyard\nCider from Halycon Days Cider Company\nLocal food products including apples\, chestnuts\, fall produce\, fresh bread and natural pet treats\n\nFREE ADMISSION AND PARKING
URL:https://www.wadesmill.com/event/23rd-annual-apple-butter-festival/
ATTACH;FMTTYPE=image/jpeg:https://www.wadesmill.com/wp-content/uploads/2017/03/2016-10-22-2016-10-Wades-Mill-Apple-Butter-Festival-012-752x589.jpg
END:VEVENT
END:VCALENDAR